BEGIN:VCALENDAR
VERSION:2.0
PRODID:-//Australian Association of Special Education - ECPv5.3.2.1//NONSGML v1.0//EN
CALSCALE:GREGORIAN
METHOD:PUBLISH
X-WR-CALNAME:Australian Association of Special Education
X-ORIGINAL-URL:https://aase.edu.au
X-WR-CALDESC:Events for Australian Association of Special Education
BEGIN:VTIMEZONE
TZID:Australia/Melbourne
BEGIN:STANDARD
TZOFFSETFROM:+1100
TZOFFSETTO:+1000
TZNAME:AEST
DTSTART:20210403T160000
END:STANDARD
BEGIN:DAYLIGHT
TZOFFSETFROM:+1000
TZOFFSETTO:+1100
TZNAME:AEDT
DTSTART:20211002T160000
END:DAYLIGHT
END:VTIMEZONE
BEGIN:VEVENT
DTSTART;TZID=Australia/Melbourne:20210908T173000
DTEND;TZID=Australia/Melbourne:20210910T170000
DTSTAMP:20210223T093409
CREATED:20191221T213458Z
LAST-MODIFIED:20200710T014952Z
UID:2871-1631122200-1631293200@aase.edu.au
SUMMARY:2021 AASE National Conference
DESCRIPTION:The theme for the 2021 AASE National Conference is Looking Through the Kaleidoscope and will be held at the Hilton Adelaide from Wednesday\, 8th – Friday\, 10th September\, 2021. \nThe 2021 Conference will be held in Adelaide. The Conference will commence with a Welcome Reception on the evening of Wednesday\, 8th September\, 2021. The Conference will be held at the Hilton Hotel Adelaide overlooking Victoria Square\, in the heart of the city’s entertainment\, shopping and dining precincts on Thursday\, 9th September and Friday\, 10th September\, 2021.  The Conference dinner will be a chance to network with colleagues  with great local food\, drink\, dancing.
URL:https://aase.edu.au/event/2021-aase-national-conference/
LOCATION:Hilton – Adelaide\, 233 Victoria Square\, Adelaide\, South Australia\, 5000
CATEGORIES:National Events
ATTACH;FMTTYPE=image/jpeg:https://aase.edu.au/wp-content/uploads/2019/12/AASE-2021-Conference_Web-Banner-1000x150px-scaled.jpg
END:VEVENT
END:VCALENDAR